BEGIN:VCALENDAR
VERSION:2.0
PRODID:-//Date iCal//NONSGML kigkonsult.se iCalcreator 2.22//
METHOD:PUBLISH
BEGIN:VTIMEZONE
TZID:Europe/Berlin
BEGIN:STANDARD
DTSTART:20251026T030000
TZOFFSETFROM:+0200
TZOFFSETTO:+0100
RDATE:20261025T030000,20271031T030000
TZNAME:CET
END:STANDARD
BEGIN:DAYLIGHT
DTSTART:20260329T020000
TZOFFSETFROM:+0100
TZOFFSETTO:+0200
RDATE:20270328T020000
TZNAME:CEST
END:DAYLIGHT
END:VTIMEZONE
BEGIN:VEVENT
UID:calendar.5092.field_datum.0@emmaus-willich.de
CREATED:20260409T094259Z
DTSTART;TZID=Europe/Berlin:20260514T110000
DTEND;TZID=Europe/Berlin:20260514T110000
LAST-MODIFIED:20260409T094259Z
LOCATION:Ev. Kirche\, Martin-Luther-Str. 12\, Kempen-St. Hubert
SUMMARY:Regionaler Gottesdienst an Christi Himmelfahrt in Kempen-St. Hubert
URL;TYPE=URI:https://emmaus-willich.de/gottesdienst/termine/5092
END:VEVENT
END:VCALENDAR
